BEGIN:VCALENDAR
VERSION:2.0
PRODID:-//El Pot Petit - ECPv6.15.20//NONSGML v1.0//EN
CALSCALE:GREGORIAN
METHOD:PUBLISH
X-WR-CALNAME:El Pot Petit
X-ORIGINAL-URL:https://www.potpetit.com
X-WR-CALDESC:Esdeveniments per El Pot Petit
REFRESH-INTERVAL;VALUE=DURATION:PT1H
X-Robots-Tag:noindex
X-PUBLISHED-TTL:PT1H
BEGIN:VTIMEZONE
TZID:Europe/Madrid
BEGIN:DAYLIGHT
TZOFFSETFROM:+0100
TZOFFSETTO:+0200
TZNAME:CEST
DTSTART:20250330T010000
END:DAYLIGHT
BEGIN:STANDARD
TZOFFSETFROM:+0200
TZOFFSETTO:+0100
TZNAME:CET
DTSTART:20251026T010000
END:STANDARD
BEGIN:DAYLIGHT
TZOFFSETFROM:+0100
TZOFFSETTO:+0200
TZNAME:CEST
DTSTART:20260329T010000
END:DAYLIGHT
BEGIN:STANDARD
TZOFFSETFROM:+0200
TZOFFSETTO:+0100
TZNAME:CET
DTSTART:20261025T010000
END:STANDARD
BEGIN:DAYLIGHT
TZOFFSETFROM:+0100
TZOFFSETTO:+0200
TZNAME:CEST
DTSTART:20270328T010000
END:DAYLIGHT
BEGIN:STANDARD
TZOFFSETFROM:+0200
TZOFFSETTO:+0100
TZNAME:CET
DTSTART:20271031T010000
END:STANDARD
END:VTIMEZONE
BEGIN:VEVENT
DTSTART;VALUE=DATE:20260612
DTEND;VALUE=DATE:20260615
DTSTAMP:20260426T020623
CREATED:20260317T205026Z
LAST-MODIFIED:20260317T211739Z
UID:10000804-1781222400-1781481599@www.potpetit.com
SUMMARY:FestiPOT
DESCRIPTION:FestiPOT – El festival d’El Pot Petit
URL:https://www.potpetit.com/esdeveniment/festipot/
LOCATION:Camping Las Dunas\, Sant Pere Pescador\, Girona
ATTACH;FMTTYPE=image/png:https://www.potpetit.com/wp-content/uploads/2026/03/Material-web_festipot-logo-footer.png
END:VEVENT
END:VCALENDAR